BEGIN:VCALENDAR
VERSION:2.0
PRODID:-//ChamberMaster//Event Calendar 2.0//EN
METHOD:PUBLISH
X-PUBLISHED-TTL:P3D
REFRESH-INTERVAL:P3D
CALSCALE:GREGORIAN
BEGIN:VEVENT
DTSTART:20170529T133000Z
DTEND:20170529T150000Z
X-MICROSOFT-CDO-ALLDAYEVENT:FALSE
SUMMARY:Memorial Day Parade
DESCRIPTION:Dockside Wreath-Laying Ceremony: 9am at Saybrook Point\n\nParade: 10am departing from Stop & Shop\, continuing down Elm Street and Main Street
X-ALT-DESC;FMTTYPE=text/html:<p><strong>Dockside Wreath-Laying Ceremony</strong>: 9am at Saybrook Point<br />\n<strong>Parade</strong>: 10am departing from Stop &amp\; Shop\, continuing down Elm Street and Main Street</p>\n
LOCATION:Assembly at Stop & Shop (Rear Parking Area) 105 Elm Street Old Saybrook\, CT 06475
UID:e.1551.3146
SEQUENCE:3
DTSTAMP:20260422T175631Z
URL:http://business.oldsaybrookchamber.com/events/details/memorial-day-parade-3146
END:VEVENT

END:VCALENDAR
