BEGIN:VCALENDAR
VERSION:2.0
PRODID:-//ChamberMaster//Event Calendar 2.0//EN
METHOD:PUBLISH
X-PUBLISHED-TTL:P3D
REFRESH-INTERVAL:P3D
CALSCALE:GREGORIAN
BEGIN:VEVENT
DTSTART:20260523T200000Z
DTEND:20260523T230000Z
X-MICROSOFT-CDO-ALLDAYEVENT:FALSE
SUMMARY:Live Music and Craft Beer with Sweet Tea Daddy Duo
DESCRIPTION:Live music with SWEET TEA DADDY DUO! This afternoon won't disappoint as we rock to our favorite acoustic hits. Come join us for a delicious pint or two. A perfect "duo" indeed!
X-ALT-DESC;FMTTYPE=text/html:Live music with SWEET TEA DADDY DUO! This afternoon won&#39\;t disappoint as we rock to our favorite acoustic hits. Come join us for a delicious pint or two. A perfect &quot\;duo&quot\; indeed!&nbsp\;
LOCATION:39 Ragged Rock Road\, Old Saybrook\, CT 06475
UID:e.1551.31592
SEQUENCE:3
DTSTAMP:20260419T214243Z
URL:https://business.oldsaybrookchamber.com/events/details/live-music-and-craft-beer-with-sweet-tea-daddy-duo-31592
END:VEVENT

END:VCALENDAR
